BEGIN:VCALENDAR
VERSION:2.0
PRODID:-//Fast North Corp//Race Roster
CALSCALE:GREGORIAN
BEGIN:VEVENT
UID:28723_b5f26919-8aa6-4585-af46-320e052ea728_1777000999@raceroster.com
DTSTAMP:20260424T032319Z
SUMMARY:Maywood Hawk 5K
DTSTART;TZID=America/New_York:20141005T090000
DTEND;TZID=America/New_York:20141005T120000
URL;VALUE=URI:https://raceroster.com/events/2014/2106/maywood-hawk-5k
DESCRIPTION:Event schedule\n\nOctober 3 4:00 PM EDT - Advance Packet Pick U
 p\nOctober 4 8:00 AM EDT - Advance Packet PIck Up\nOctober 5 7:30 AM EDT -
  Race Day registration\nOctober 5 9:00 AM EDT - Race Starts\n\nSee all eve
 nt details at https://raceroster.com/events/2014/2106/maywood-hawk-5k
LOCATION:764 Grant Avenue\, Maywood\, NJ 07607\, United States
END:VEVENT
END:VCALENDAR
