BEGIN:VCALENDAR
VERSION:2.0
PRODID:-//Fast North Corp//Race Roster
CALSCALE:GREGORIAN
BEGIN:VEVENT
UID:52818_2c5bcb98-f66f-4205-b860-f0f1cf26661f_1777088984@raceroster.com
DTSTAMP:20260425T034944Z
SUMMARY:RUN(317) - Mass Ave
DTSTART;TZID=America/New_York:20150903T190000
DTEND;TZID=America/New_York:20150903T220000
URL;VALUE=URI:https://raceroster.com/events/2015/5067/run317-mass-ave
DESCRIPTION:Event schedule\n\nSeptember 2 4:00 PM EDT - Packet Pick Up - Ru
 nners Forum Broad Ripple\nSeptember 3 5:30 PM EDT - Raceday Packet Pick Up
 \nSeptember 3 7:00 PM EDT - 3.17 Mile Run/Walk Start\nSeptember 3 7:15 PM 
 EDT - Post Race Party hosted by Do317\n\nSee all event details at https://
 raceroster.com/events/2015/5067/run317-mass-ave
LOCATION:Indy Reads Books\, Massachusetts Avenue\, Indianapolis\, IN\, Unit
 ed States
END:VEVENT
END:VCALENDAR
