BEGIN:VCALENDAR
VERSION:2.0
PRODID:-//Fast North Corp//Race Roster
CALSCALE:GREGORIAN
BEGIN:VEVENT
UID:88685_d975e145-f740-4260-981f-b6c3e45348d8_1777010063@raceroster.com
DTSTAMP:20260424T055423Z
SUMMARY:Flow Energy Sunday
DTSTART;TZID=America/Port_of_Spain:20160925T073000
DTEND;TZID=America/Port_of_Spain:20160925T103000
URL;VALUE=URI:https://raceroster.com/events/2016/7723/flow-energy-sunday
DESCRIPTION:Event schedule\n\nSeptember 25 7:30 AM AST - Youth 10-15 Duathl
 on Start\nSeptember 25 8:15 AM AST - 1 Lap Run Start\nSeptember 25 9:00 AM
  AST - Baby-athlon\nSeptember 25 9:10 AM AST - Youth 5-9 Duathlon Start\nS
 eptember 25 9:30 AM AST - Duathlon &amp\; Relay Start\n\nSee all event det
 ails at https://raceroster.com/events/2016/7723/flow-energy-sunday
LOCATION:Queen's Park Savannah\, Port of Spain\, Trinidad and Tobago
END:VEVENT
END:VCALENDAR
