BEGIN:VCALENDAR
VERSION:2.0
PRODID:-//Fast North Corp//Race Roster
CALSCALE:GREGORIAN
BEGIN:VEVENT
UID:88226_62b0bf1a-ab91-4325-a26f-5c8c5ec98590_1777159887@raceroster.com
DTSTAMP:20260425T233127Z
SUMMARY:2016 Morgantown Marathon Weekend presented by WVU Medicine
DTSTART;TZID=America/New_York:20160915T180000
DTEND;TZID=America/New_York:20160915T210000
URL;VALUE=URI:https://raceroster.com/events/2016/7794/2016-morgantown-marat
 hon-weekend-presented-by-wvu-medicine
DESCRIPTION:Event schedule\n\nSeptember 15 6:00 PM EDT - Family Fun Run\nSe
 ptember 16 1:00 PM EDT - Health &amp\; Wellness Expo/Packet Pickup\nSeptem
 ber 17 8:00 AM EDT - Mountain Mama 8K\nSeptember 17 12:00 PM EDT - Health 
 &amp\; Wellness Expo/Packet Pickup\nSeptember 18 7:00 AM EDT - 1/2 Maratho
 n &amp\; Full Marathon\n\nSee all event details at https://raceroster.com/
 events/2016/7794/2016-morgantown-marathon-weekend-presented-by-wvu-medicin
 e
LOCATION:Morgantown\, WV\, United States
END:VEVENT
BEGIN:VEVENT
UID:88227_62b0bf1a-ab91-4325-a26f-5c8c5ec98590_1777159887@raceroster.com
DTSTAMP:20260425T233127Z
SUMMARY:2016 Morgantown Marathon Weekend presented by WVU Medicine
DTSTART;TZID=America/New_York:20160916T090000
DTEND;TZID=America/New_York:20160916T120000
URL;VALUE=URI:https://raceroster.com/events/2016/7794/2016-morgantown-marat
 hon-weekend-presented-by-wvu-medicine
DESCRIPTION:Event schedule\n\nSeptember 15 6:00 PM EDT - Family Fun Run\nSe
 ptember 16 1:00 PM EDT - Health &amp\; Wellness Expo/Packet Pickup\nSeptem
 ber 17 8:00 AM EDT - Mountain Mama 8K\nSeptember 17 12:00 PM EDT - Health 
 &amp\; Wellness Expo/Packet Pickup\nSeptember 18 7:00 AM EDT - 1/2 Maratho
 n &amp\; Full Marathon\n\nSee all event details at https://raceroster.com/
 events/2016/7794/2016-morgantown-marathon-weekend-presented-by-wvu-medicin
 e
LOCATION:Morgantown\, WV\, United States
END:VEVENT
BEGIN:VEVENT
UID:88228_62b0bf1a-ab91-4325-a26f-5c8c5ec98590_1777159887@raceroster.com
DTSTAMP:20260425T233127Z
SUMMARY:2016 Morgantown Marathon Weekend presented by WVU Medicine
DTSTART;TZID=America/New_York:20160917T080000
DTEND;TZID=America/New_York:20160917T110000
URL;VALUE=URI:https://raceroster.com/events/2016/7794/2016-morgantown-marat
 hon-weekend-presented-by-wvu-medicine
DESCRIPTION:Event schedule\n\nSeptember 15 6:00 PM EDT - Family Fun Run\nSe
 ptember 16 1:00 PM EDT - Health &amp\; Wellness Expo/Packet Pickup\nSeptem
 ber 17 8:00 AM EDT - Mountain Mama 8K\nSeptember 17 12:00 PM EDT - Health 
 &amp\; Wellness Expo/Packet Pickup\nSeptember 18 7:00 AM EDT - 1/2 Maratho
 n &amp\; Full Marathon\n\nSee all event details at https://raceroster.com/
 events/2016/7794/2016-morgantown-marathon-weekend-presented-by-wvu-medicin
 e
LOCATION:Morgantown\, WV\, United States
END:VEVENT
BEGIN:VEVENT
UID:88229_62b0bf1a-ab91-4325-a26f-5c8c5ec98590_1777159887@raceroster.com
DTSTAMP:20260425T233127Z
SUMMARY:2016 Morgantown Marathon Weekend presented by WVU Medicine
DTSTART;TZID=America/New_York:20160918T070000
DTEND;TZID=America/New_York:20160918T100000
URL;VALUE=URI:https://raceroster.com/events/2016/7794/2016-morgantown-marat
 hon-weekend-presented-by-wvu-medicine
DESCRIPTION:Event schedule\n\nSeptember 15 6:00 PM EDT - Family Fun Run\nSe
 ptember 16 1:00 PM EDT - Health &amp\; Wellness Expo/Packet Pickup\nSeptem
 ber 17 8:00 AM EDT - Mountain Mama 8K\nSeptember 17 12:00 PM EDT - Health 
 &amp\; Wellness Expo/Packet Pickup\nSeptember 18 7:00 AM EDT - 1/2 Maratho
 n &amp\; Full Marathon\n\nSee all event details at https://raceroster.com/
 events/2016/7794/2016-morgantown-marathon-weekend-presented-by-wvu-medicin
 e
LOCATION:Morgantown\, WV\, United States
END:VEVENT
END:VCALENDAR
