BEGIN:VCALENDAR
VERSION:2.0
PRODID:-//Fast North Corp//Race Roster
CALSCALE:GREGORIAN
BEGIN:VEVENT
UID:149226_91560f69-4ba4-4e98-9f6b-e7ddc2ba1cd1_1776965275@raceroster.com
DTSTAMP:20260423T172755Z
SUMMARY:LCMS PAWS FOR A CAUSE 5K
DTSTART;TZID=America/New_York:20180428T073059
DTEND;TZID=America/New_York:20180428T103059
URL;VALUE=URI:https://raceroster.com/events/2018/16064/lcms-paws-for-a-caus
 e-5k
DESCRIPTION:Event schedule\n\nApril 28 6:30 AM EDT - Raceday Packet Pickup\
 nApril 28 7:30 AM EDT - 5k Run &amp\; Walk Start\nApril 28 8:45 AM EDT - 5
 k Awards Ceremony/Breakfast\n\nSee all event details at https://raceroster
 .com/events/2018/16064/lcms-paws-for-a-cause-5k
LOCATION:Lawton Chiles Middle School\, Sanctuary Drive\, Oviedo\, FL\, Unit
 ed States
END:VEVENT
END:VCALENDAR
