BEGIN:VCALENDAR
VERSION:2.0
PRODID:-//Fast North Corp//Race Roster
CALSCALE:GREGORIAN
BEGIN:VEVENT
UID:196277_88d27d6a-3864-4486-a1e4-08bb3a0ac255_1777087903@raceroster.com
DTSTAMP:20260425T033143Z
SUMMARY:United Way of St. Charles Bridge Run
DTSTART;TZID=America/Chicago:20190406T083000
DTEND;TZID=America/Chicago:20190406T113000
URL;VALUE=URI:https://raceroster.com/events/2019/21883/united-way-of-st-cha
 rles-bridge-run
DESCRIPTION:Event schedule\n\nApril 6 6:30 AM CDT - Race day registration a
 nd packet pickup opens     (At the West Bank Bridge Park\, Luling)\nApril 
 6 8:30 AM CDT - Start of 5K Run/Walk (East Bank Bridge Park)\n\nSee all ev
 ent details at https://raceroster.com/events/2019/21883/united-way-of-st-c
 harles-bridge-run
LOCATION:Eastbank Bridge Park\, Destrehan\, LA\, United States
END:VEVENT
END:VCALENDAR
