BEGIN:VCALENDAR
VERSION:2.0
PRODID:-//Fast North Corp//Race Roster
CALSCALE:GREGORIAN
BEGIN:VEVENT
UID:229943_95925c6b-6297-4ed5-9266-3a71f071a410_1776606608@raceroster.com
DTSTAMP:20260419T135008Z
SUMMARY:Inaugural KSCS 5k Costume Run Walk for Addiction Awareness
DTSTART;TZID=America/New_York:20191026T093000
DTEND;TZID=America/New_York:20191026T123000
URL;VALUE=URI:https://raceroster.com/events/2019/26597/inaugural-kscs-5k-co
 stume-run-walk-for-addiction-awareness
DESCRIPTION:Event schedule\n\nOctober 26 9:30 AM EDT - Race start\n\nSee al
 l event details at https://raceroster.com/events/2019/26597/inaugural-kscs
 -5k-costume-run-walk-for-addiction-awareness
LOCATION:Delaware Tech - Charles L. Terry Jr. Campus - Dover\, Campus Drive
 \, Dover\, DE\, USA
END:VEVENT
END:VCALENDAR
