BEGIN:VCALENDAR
VERSION:2.0
PRODID:-//Fast North Corp//Race Roster
CALSCALE:GREGORIAN
BEGIN:VEVENT
UID:298676_528b2a05-588c-4b4c-9319-2b5804329ab9_1776940671@raceroster.com
DTSTAMP:20260423T103751Z
SUMMARY:Foothills Frolic 2021 Reboot
DTSTART;TZID=America/New_York:20210731T150000
DTEND;TZID=America/New_York:20210731T180000
URL;VALUE=URI:https://raceroster.com/events/2021/26190/foothills-frolic-202
 1-reboot
DESCRIPTION:See all event details at https://raceroster.com/events/2021/261
 90/foothills-frolic-2021-reboot
LOCATION:ADK Foothills
END:VEVENT
BEGIN:VEVENT
UID:298677_528b2a05-588c-4b4c-9319-2b5804329ab9_1776940671@raceroster.com
DTSTAMP:20260423T103751Z
SUMMARY:Foothills Frolic 2021 Reboot
DTSTART;TZID=America/New_York:20210806T150000
DTEND;TZID=America/New_York:20210806T180000
URL;VALUE=URI:https://raceroster.com/events/2021/26190/foothills-frolic-202
 1-reboot
DESCRIPTION:See all event details at https://raceroster.com/events/2021/261
 90/foothills-frolic-2021-reboot
LOCATION:ADK Foothills
END:VEVENT
END:VCALENDAR
