BEGIN:VCALENDAR
VERSION:2.0
PRODID:-//Fast North Corp//Race Roster
CALSCALE:GREGORIAN
BEGIN:VEVENT
UID:509680_4e70fed2-7ef7-4753-9d36-09f5dbfdac54_1776889108@raceroster.com
DTSTAMP:20260422T201828Z
SUMMARY:2022 Act Belong Commit Dwellingup 100
DTSTART;TZID=Australia/Perth:20220910T080000
DTEND;TZID=Australia/Perth:20220910T110000
URL;VALUE=URI:https://raceroster.com/events/2022/59107/2022-act-belong-comm
 it-dwellingup-100
DESCRIPTION:See all event details at https://raceroster.com/events/2022/591
 07/2022-act-belong-commit-dwellingup-100
LOCATION:Dwellingup WA\, Australia
END:VEVENT
END:VCALENDAR
