BEGIN:VCALENDAR
VERSION:2.0
PRODID:-//Fast North Corp//Race Roster
CALSCALE:GREGORIAN
BEGIN:VEVENT
UID:495849_58a46a89-ab33-4289-aec7-34c4c7eb81d4_1777048049@raceroster.com
DTSTAMP:20260424T162729Z
SUMMARY:HoHoHo Santa Claus Virtual Run
DTSTART;TZID=America/New_York:20221225T080000
DTEND;TZID=America/New_York:20221225T110000
URL;VALUE=URI:https://raceroster.com/events/2022/63608/hohoho-santa-claus-v
 irtual-run
DESCRIPTION:See all event details at https://raceroster.com/events/2022/636
 08/hohoho-santa-claus-virtual-run
LOCATION:Anywhere
END:VEVENT
BEGIN:VEVENT
UID:495850_58a46a89-ab33-4289-aec7-34c4c7eb81d4_1777048049@raceroster.com
DTSTAMP:20260424T162729Z
SUMMARY:HoHoHo Santa Claus Virtual Run
DTSTART;TZID=America/New_York:20230101T080000
DTEND;TZID=America/New_York:20230101T110000
URL;VALUE=URI:https://raceroster.com/events/2022/63608/hohoho-santa-claus-v
 irtual-run
DESCRIPTION:See all event details at https://raceroster.com/events/2022/636
 08/hohoho-santa-claus-virtual-run
LOCATION:Anywhere
END:VEVENT
END:VCALENDAR
