BEGIN:VCALENDAR
VERSION:2.0
PRODID:-//Fast North Corp//Race Roster
CALSCALE:GREGORIAN
BEGIN:VEVENT
UID:504648_c4e8df82-0800-4ae6-ada5-250d372eba8c_1777048049@raceroster.com
DTSTAMP:20260424T162729Z
SUMMARY:Reunion @ Homecoming 2022
DTSTART;TZID=America/New_York:20221028T120000
DTEND;TZID=America/New_York:20221028T150000
URL;VALUE=URI:https://raceroster.com/events/2022/64537/reunion-at-homecomin
 g-2022
DESCRIPTION:See all event details at https://raceroster.com/events/2022/645
 37/reunion-at-homecoming-2022
LOCATION:Sheraton Greensboro at Four Seasons\, West Gate City Boulevard\, G
 reensboro\, NC
END:VEVENT
END:VCALENDAR
