BEGIN:VCALENDAR
VERSION:2.0
PRODID:-//Fast North Corp//Race Roster
CALSCALE:GREGORIAN
BEGIN:VEVENT
UID:511838_c7b4e13d-4217-4b2a-916f-08faff89d0d1_1776692184@raceroster.com
DTSTAMP:20260420T133624Z
SUMMARY:2022 Philadelphia Marathon Weekend
DTSTART;TZID=America/New_York:20221119T070000
DTEND;TZID=America/New_York:20221119T100000
URL;VALUE=URI:https://raceroster.com/events/2022/66966/2022-philadelphia-ma
 rathon-weekend
DESCRIPTION:See all event details at https://raceroster.com/events/2022/669
 66/2022-philadelphia-marathon-weekend
LOCATION:Eakins Oval\, Philadelphia\, PA
END:VEVENT
BEGIN:VEVENT
UID:511839_c7b4e13d-4217-4b2a-916f-08faff89d0d1_1776692184@raceroster.com
DTSTAMP:20260420T133624Z
SUMMARY:2022 Philadelphia Marathon Weekend
DTSTART;TZID=America/New_York:20221120T070000
DTEND;TZID=America/New_York:20221120T100000
URL;VALUE=URI:https://raceroster.com/events/2022/66966/2022-philadelphia-ma
 rathon-weekend
DESCRIPTION:See all event details at https://raceroster.com/events/2022/669
 66/2022-philadelphia-marathon-weekend
LOCATION:Eakins Oval\, Philadelphia\, PA
END:VEVENT
END:VCALENDAR
