BEGIN:VCALENDAR
VERSION:2.0
PRODID:-//Fast North Corp//Race Roster
CALSCALE:GREGORIAN
BEGIN:VEVENT
UID:606594_6ea9129c-5829-4298-91c9-56c4af310d88_1777173345@raceroster.com
DTSTAMP:20260426T031545Z
SUMMARY:Run Like Hell
DTSTART;TZID=America/Los_Angeles:20221028T040000
DTEND;TZID=America/Los_Angeles:20221028T070000
URL;VALUE=URI:https://raceroster.com/events/2022/81730/run-like-hell
DESCRIPTION:See all event details at https://raceroster.com/events/2022/817
 30/run-like-hell
LOCATION:Elks Lodge 142\, Southeast McLoughlin Boulevard\, Oak Grove\, OR
END:VEVENT
END:VCALENDAR
