BEGIN:VCALENDAR
VERSION:2.0
PRODID:-//Fast North Corp//Race Roster
CALSCALE:GREGORIAN
BEGIN:VEVENT
UID:527307_281fb934-6fc5-4d8d-9ee4-d571e6f281a8_1776876391@raceroster.com
DTSTAMP:20260422T164631Z
SUMMARY:The Ivy Scholarship 5k
DTSTART;TZID=America/New_York:20230416T090000
DTEND;TZID=America/New_York:20230416T120000
URL;VALUE=URI:https://raceroster.com/events/2023/71531/the-ivy-scholarship-
 5k
DESCRIPTION:See all event details at https://raceroster.com/events/2023/715
 31/the-ivy-scholarship-5k
LOCATION:815 Justison St\, Wilmington\, DE 19801
END:VEVENT
END:VCALENDAR
