BEGIN:VCALENDAR
VERSION:2.0
PRODID:-//Fast North Corp//Race Roster
CALSCALE:GREGORIAN
BEGIN:VEVENT
UID:557242_1fb0e584-32c4-4256-bed1-e394b3388ecd_1776974240@raceroster.com
DTSTAMP:20260423T195720Z
SUMMARY:Friends of the Joeten-Kiyu Public Library  Community Fun Run/Walk
DTSTART;TZID=Pacific/Honolulu:20230429T170000
DTEND;TZID=Pacific/Honolulu:20230429T200000
URL;VALUE=URI:https://raceroster.com/events/2023/73161/friends-of-the-joete
 n-kiyu-public-library-community-fun-runwalk
DESCRIPTION:See all event details at https://raceroster.com/events/2023/731
 61/friends-of-the-joeten-kiyu-public-library-community-fun-runwalk
LOCATION:Minachom Atdao\, Route 30\, Susupe\, Saipan\, CNMI
END:VEVENT
END:VCALENDAR
