BEGIN:VCALENDAR
VERSION:2.0
PRODID:-//Fast North Corp//Race Roster
CALSCALE:GREGORIAN
BEGIN:VEVENT
UID:557531_612626f9-b824-415d-be27-96c2366a65d8_1776697439@raceroster.com
DTSTAMP:20260420T150359Z
SUMMARY:Lambrick Park Preschool and Childcare Annual WalkaThon
DTSTART;TZID=America/Vancouver:20230429T130000
DTEND;TZID=America/Vancouver:20230429T160000
URL;VALUE=URI:https://raceroster.com/events/2023/73249/lambrick-park-presch
 ool-and-childcare-annual-walkathon
DESCRIPTION:See all event details at https://raceroster.com/events/2023/732
 49/lambrick-park-preschool-and-childcare-annual-walkathon
LOCATION:Playfair Park\, Rock Street\, Victoria\, BC\, Canada
END:VEVENT
END:VCALENDAR
