BEGIN:VCALENDAR
VERSION:2.0
PRODID:-//Fast North Corp//Race Roster
CALSCALE:GREGORIAN
BEGIN:VEVENT
UID:543295_2100fda3-395d-4a89-bc8b-f359284bb21a_1776697033@raceroster.com
DTSTAMP:20260420T145713Z
SUMMARY:Holiday Light Run
DTSTART;TZID=America/New_York:20231209T160000
DTEND;TZID=America/New_York:20231209T190000
URL;VALUE=URI:https://raceroster.com/events/2023/73316/holiday-light-run
DESCRIPTION:See all event details at https://raceroster.com/events/2023/733
 16/holiday-light-run
LOCATION:8 Tymor Park Road\, Lagrangeville\, NY
END:VEVENT
END:VCALENDAR
