BEGIN:VCALENDAR
VERSION:2.0
PRODID:-//Fast North Corp//Race Roster
CALSCALE:GREGORIAN
BEGIN:VEVENT
UID:542835_3fa64541-0b55-4479-9f3a-235110af0c77_1776693052@raceroster.com
DTSTAMP:20260420T135052Z
SUMMARY:Not Fast\, Just Furious Run Club 5K/10K/13.1 PHOENIX
DTSTART;TZID=America/Phoenix:20230624T080000
DTEND;TZID=America/Phoenix:20230624T110000
URL;VALUE=URI:https://raceroster.com/events/2023/73673/not-fast-just-furiou
 s-run-club-5k10k131-phoenix
DESCRIPTION:See all event details at https://raceroster.com/events/2023/736
 73/not-fast-just-furious-run-club-5k10k131-phoenix
LOCATION:Indian Bend Wash Greenbelt\, Scottsdale\, AZ
END:VEVENT
BEGIN:VEVENT
UID:542836_3fa64541-0b55-4479-9f3a-235110af0c77_1776693052@raceroster.com
DTSTAMP:20260420T135052Z
SUMMARY:Not Fast\, Just Furious Run Club 5K/10K/13.1 PHOENIX
DTSTART;TZID=America/Phoenix:20230624T130000
DTEND;TZID=America/Phoenix:20230624T160000
URL;VALUE=URI:https://raceroster.com/events/2023/73673/not-fast-just-furiou
 s-run-club-5k10k131-phoenix
DESCRIPTION:See all event details at https://raceroster.com/events/2023/736
 73/not-fast-just-furious-run-club-5k10k131-phoenix
LOCATION:Indian Bend Wash Greenbelt\, Scottsdale\, AZ
END:VEVENT
END:VCALENDAR
