BEGIN:VCALENDAR
VERSION:2.0
PRODID:-//Fast North Corp//Race Roster
CALSCALE:GREGORIAN
BEGIN:VEVENT
UID:584457_385aecf5-d6cc-4061-8621-40873f612be8_1776710285@raceroster.com
DTSTAMP:20260420T183805Z
SUMMARY:Canyon Country Classic
DTSTART;TZID=Australia/Sydney:20231110T170000
DTEND;TZID=Australia/Sydney:20231110T200000
URL;VALUE=URI:https://raceroster.com/events/2023/75139/canyon-country-class
 ic
DESCRIPTION:Event schedule\n\nNovember 10 3:00 pm GMT+11 - Check In Friday\
 nNovember 10 5:00 pm GMT+11 - Eagle Rock Mountain Dash\nNovember 11 3:00 a
 m GMT+11 - Check in Saturday\nNovember 11 4:00 am GMT+11 - Last One Standi
 ng Endurance Run\nNovember 11 7:30 am GMT+11 - Ultramarathon Start Time\nN
 ovember 11 10:30 am GMT+11 - 14km Start Time\nNovember 11 2:15 pm GMT+11 -
  Kids Race Start Time\nNovember 11 2:45 pm GMT+11 - Saturday Presentations
  50km\, 14km and Kids\nNovember 12 7:00 am GMT+11 - Sunday Check In Open\n
 November 12 8:30 am GMT+11 - 30km Start Time\nNovember 12 9:30 am GMT+11 -
  Half Marathon Start Time\nNovember 12 11:30 am GMT+11 - 7km Start Time\nN
 ovember 12 1:30 pm GMT+11 - Presentations 30km\, Half Mara\, 7km\n\nSee al
 l event details at https://raceroster.com/events/2023/75139/canyon-country
 -classic
LOCATION:Canyon Country Camping\, Upper Nile Road\, Glen Alice NSW\, Austra
 lia
END:VEVENT
BEGIN:VEVENT
UID:584458_385aecf5-d6cc-4061-8621-40873f612be8_1776710285@raceroster.com
DTSTAMP:20260420T183805Z
SUMMARY:Canyon Country Classic
DTSTART;TZID=Australia/Sydney:20231111T040000
DTEND;TZID=Australia/Sydney:20231111T070000
URL;VALUE=URI:https://raceroster.com/events/2023/75139/canyon-country-class
 ic
DESCRIPTION:Event schedule\n\nNovember 10 3:00 pm GMT+11 - Check In Friday\
 nNovember 10 5:00 pm GMT+11 - Eagle Rock Mountain Dash\nNovember 11 3:00 a
 m GMT+11 - Check in Saturday\nNovember 11 4:00 am GMT+11 - Last One Standi
 ng Endurance Run\nNovember 11 7:30 am GMT+11 - Ultramarathon Start Time\nN
 ovember 11 10:30 am GMT+11 - 14km Start Time\nNovember 11 2:15 pm GMT+11 -
  Kids Race Start Time\nNovember 11 2:45 pm GMT+11 - Saturday Presentations
  50km\, 14km and Kids\nNovember 12 7:00 am GMT+11 - Sunday Check In Open\n
 November 12 8:30 am GMT+11 - 30km Start Time\nNovember 12 9:30 am GMT+11 -
  Half Marathon Start Time\nNovember 12 11:30 am GMT+11 - 7km Start Time\nN
 ovember 12 1:30 pm GMT+11 - Presentations 30km\, Half Mara\, 7km\n\nSee al
 l event details at https://raceroster.com/events/2023/75139/canyon-country
 -classic
LOCATION:Canyon Country Camping\, Upper Nile Road\, Glen Alice NSW\, Austra
 lia
END:VEVENT
BEGIN:VEVENT
UID:584459_385aecf5-d6cc-4061-8621-40873f612be8_1776710285@raceroster.com
DTSTAMP:20260420T183805Z
SUMMARY:Canyon Country Classic
DTSTART;TZID=Australia/Sydney:20231112T083000
DTEND;TZID=Australia/Sydney:20231112T113000
URL;VALUE=URI:https://raceroster.com/events/2023/75139/canyon-country-class
 ic
DESCRIPTION:Event schedule\n\nNovember 10 3:00 pm GMT+11 - Check In Friday\
 nNovember 10 5:00 pm GMT+11 - Eagle Rock Mountain Dash\nNovember 11 3:00 a
 m GMT+11 - Check in Saturday\nNovember 11 4:00 am GMT+11 - Last One Standi
 ng Endurance Run\nNovember 11 7:30 am GMT+11 - Ultramarathon Start Time\nN
 ovember 11 10:30 am GMT+11 - 14km Start Time\nNovember 11 2:15 pm GMT+11 -
  Kids Race Start Time\nNovember 11 2:45 pm GMT+11 - Saturday Presentations
  50km\, 14km and Kids\nNovember 12 7:00 am GMT+11 - Sunday Check In Open\n
 November 12 8:30 am GMT+11 - 30km Start Time\nNovember 12 9:30 am GMT+11 -
  Half Marathon Start Time\nNovember 12 11:30 am GMT+11 - 7km Start Time\nN
 ovember 12 1:30 pm GMT+11 - Presentations 30km\, Half Mara\, 7km\n\nSee al
 l event details at https://raceroster.com/events/2023/75139/canyon-country
 -classic
LOCATION:Canyon Country Camping\, Upper Nile Road\, Glen Alice NSW\, Austra
 lia
END:VEVENT
END:VCALENDAR
