BEGIN:VCALENDAR
VERSION:2.0
PRODID:-//Fast North Corp//Race Roster
CALSCALE:GREGORIAN
BEGIN:VEVENT
UID:573907_dd5ebb81-1255-4b04-b092-66145efd745e_1776913896@raceroster.com
DTSTAMP:20260423T031136Z
SUMMARY:2023 Draper Days 5K
DTSTART;TZID=America/Boise:20230708T070000
DTEND;TZID=America/Boise:20230708T100000
URL;VALUE=URI:https://raceroster.com/events/2023/77434/2023-draper-days-5k
DESCRIPTION:See all event details at https://raceroster.com/events/2023/774
 34/2023-draper-days-5k
LOCATION:Draper City Park\, South 1300 East\, Draper\, UT
END:VEVENT
END:VCALENDAR
