BEGIN:VCALENDAR
VERSION:2.0
PRODID:-//Fast North Corp//Race Roster
CALSCALE:GREGORIAN
BEGIN:VEVENT
UID:589396_f3d6ae0b-a5fd-446e-bbc6-a648c3de2603_1777048050@raceroster.com
DTSTAMP:20260424T162730Z
SUMMARY:Veterans Backyard Bash
DTSTART;TZID=America/Chicago:20230902T000000
DTEND;TZID=America/Chicago:20230902T030000
URL;VALUE=URI:https://raceroster.com/events/2023/79398/veterans-backyard-ba
 sh
DESCRIPTION:See all event details at https://raceroster.com/events/2023/793
 98/veterans-backyard-bash
LOCATION:309 Archer Drive\, Fremont\, WI 54940\, U.S.
END:VEVENT
END:VCALENDAR
