BEGIN:VCALENDAR
VERSION:2.0
PRODID:-//Fast North Corp//Race Roster
CALSCALE:GREGORIAN
BEGIN:VEVENT
UID:655335_d0e18d2d-1541-46c5-b62b-166ce77ef37d_1777158863@raceroster.com
DTSTAMP:20260425T231423Z
SUMMARY:Bare Creek Trail Run
DTSTART;TZID=Australia/Sydney:20240324T070000
DTEND;TZID=Australia/Sydney:20240324T100000
URL;VALUE=URI:https://raceroster.com/events/2024/66528/bare-creek-trail-run
DESCRIPTION:See all event details at https://raceroster.com/events/2024/665
 28/bare-creek-trail-run
LOCATION:Acron Oval\, Acron Rd\, St Ives NSW\, Australia
END:VEVENT
END:VCALENDAR
