BEGIN:VCALENDAR
VERSION:2.0
PRODID:-//Fast North Corp//Race Roster
CALSCALE:GREGORIAN
BEGIN:VEVENT
UID:657722_3c37bd62-adbf-4fe9-8716-736bb8005c8e_1776606607@raceroster.com
DTSTAMP:20260419T135007Z
SUMMARY:Hope Easter Run 5K/10K/13.1 SAN DIEGO
DTSTART;TZID=America/Los_Angeles:20240330T073000
DTEND;TZID=America/Los_Angeles:20240330T103000
URL;VALUE=URI:https://raceroster.com/events/2024/83920/hope-easter-run-5k10
 k131-san-diego
DESCRIPTION:See all event details at https://raceroster.com/events/2024/839
 20/hope-easter-run-5k10k131-san-diego
LOCATION:Liberty Station
END:VEVENT
BEGIN:VEVENT
UID:657723_3c37bd62-adbf-4fe9-8716-736bb8005c8e_1776606607@raceroster.com
DTSTAMP:20260419T135007Z
SUMMARY:Hope Easter Run 5K/10K/13.1 SAN DIEGO
DTSTART;TZID=America/Los_Angeles:20240330T110000
DTEND;TZID=America/Los_Angeles:20240330T140000
URL;VALUE=URI:https://raceroster.com/events/2024/83920/hope-easter-run-5k10
 k131-san-diego
DESCRIPTION:See all event details at https://raceroster.com/events/2024/839
 20/hope-easter-run-5k10k131-san-diego
LOCATION:Liberty Station
END:VEVENT
END:VCALENDAR
