BEGIN:VCALENDAR
VERSION:2.0
PRODID:-//Fast North Corp//Race Roster
CALSCALE:GREGORIAN
BEGIN:VEVENT
UID:793455_01f058cf-91ee-4964-b51f-b80e214f825a_1776604376@raceroster.com
DTSTAMP:20260419T131256Z
SUMMARY:FMXC / MPXC Camp
DTSTART;TZID=America/New_York:20250811T083000
DTEND;TZID=America/New_York:20250811T113000
URL;VALUE=URI:https://raceroster.com/events/2025/106866/fmxc-mpxc-camp
DESCRIPTION:See all event details at https://raceroster.com/events/2025/106
 866/fmxc-mpxc-camp
LOCATION:Blowing Rock Conference Center\, 1818 Goforth Road\, Blowing Rock\
 , NC 28605
END:VEVENT
END:VCALENDAR
