BEGIN:VCALENDAR
VERSION:2.0
PRODID:-//Fast North Corp//Race Roster
CALSCALE:GREGORIAN
BEGIN:VEVENT
UID:792329_155fe97c-9df2-408b-b6cc-6368599d8cf0_1776602174@raceroster.com
DTSTAMP:20260419T123614Z
SUMMARY:All American 4 & 8 Mile - Milwaukee
DTSTART;TZID=America/Chicago:20250628T000000
DTEND;TZID=America/Chicago:20250628T030000
URL;VALUE=URI:https://raceroster.com/events/2025/106923/all-american-4-and-
 8-mile-milwaukee
DESCRIPTION:See all event details at https://raceroster.com/events/2025/106
 923/all-american-4-and-8-mile-milwaukee
LOCATION:Milwaukee County Sports Complex\, 6000 W Ryan Rd\, Franklin\, WI 5
 3132\, USA
END:VEVENT
END:VCALENDAR
