BEGIN:VCALENDAR
VERSION:2.0
PRODID:-//Fast North Corp//Race Roster
CALSCALE:GREGORIAN
BEGIN:VEVENT
UID:812820_d976da9a-8c94-4d7d-9c12-a519e3d3b6f4_1776876365@raceroster.com
DTSTAMP:20260422T164606Z
SUMMARY:Triathlon Ontario's Aquathlon Provincial Championships
DTSTART;TZID=America/Toronto:20250821T170000
DTEND;TZID=America/Toronto:20250821T200000
URL;VALUE=URI:https://raceroster.com/events/2025/109472/triathlon-ontarios-
 aquathlon-provincial-championships
DESCRIPTION:See all event details at https://raceroster.com/events/2025/109
 472/triathlon-ontarios-aquathlon-provincial-championships
LOCATION:Kelso Conservation Area\, Kelso Road\, Milton\, ON\, Canada
END:VEVENT
END:VCALENDAR
