BEGIN:VCALENDAR
VERSION:2.0
PRODID:-//Fast North Corp//Race Roster
CALSCALE:GREGORIAN
BEGIN:VEVENT
UID:828520_1ea2018f-f99a-4c16-8754-87ae2b60e2d3_1777048576@raceroster.com
DTSTAMP:20260424T163616Z
SUMMARY:20th Annual Paso Robles Youth Wrestling Club TURKEYMANIA!
DTSTART;TZID=America/Los_Angeles:20251127T080000
DTEND;TZID=America/Los_Angeles:20251127T110000
URL;VALUE=URI:https://raceroster.com/events/2025/111525/20th-annual-paso-ro
 bles-youth-wrestling-club-turkeymania
DESCRIPTION:Event schedule\n\nNovember 27 8:00 AM PST - 10K Turkey Trot Fun
  Run\nNovember 27 8:00 AM PST - 5K Family Fun Walk\n\nSee all event detail
 s at https://raceroster.com/events/2025/111525/20th-annual-paso-robles-you
 th-wrestling-club-turkeymania
LOCATION:Food 4 Less\, Creston Road\, Paso Robles\, California
END:VEVENT
END:VCALENDAR
