BEGIN:VCALENDAR
VERSION:2.0
PRODID:-//Fast North Corp//Race Roster
CALSCALE:GREGORIAN
BEGIN:VEVENT
UID:847074_020dbd27-e870-4e9f-9228-a6f7c876ae34_1777048050@raceroster.com
DTSTAMP:20260424T162730Z
SUMMARY:26km to 2026
DTSTART;TZID=America/Toronto:20251231T083000
DTEND;TZID=America/Toronto:20251231T113000
URL;VALUE=URI:https://raceroster.com/events/2025/112556/26km-to-2026
DESCRIPTION:See all event details at https://raceroster.com/events/2025/112
 556/26km-to-2026
LOCATION:55 Erb Street East #105\, Waterloo\, ON\, Canada
END:VEVENT
END:VCALENDAR
