BEGIN:VCALENDAR
VERSION:2.0
PRODID:-//Fast North Corp//Race Roster
CALSCALE:GREGORIAN
BEGIN:VEVENT
UID:874143_328c90f2-cb42-4103-b425-c3113c4af4d4_1776601855@raceroster.com
DTSTAMP:20260419T123056Z
SUMMARY:DC Turkey Trot 5k & Half
DTSTART;TZID=America/New_York:20251123T073000
DTEND;TZID=America/New_York:20251123T103000
URL;VALUE=URI:https://raceroster.com/events/2025/118120/dc-turkey-trot-5k-a
 nd-half
DESCRIPTION:See all event details at https://raceroster.com/events/2025/118
 120/dc-turkey-trot-5k-and-half
LOCATION:3530 Water St NW\, Washington\, DC 20007
END:VEVENT
END:VCALENDAR
