BEGIN:VCALENDAR
VERSION:2.0
PRODID:-//Fast North Corp//Race Roster
CALSCALE:GREGORIAN
BEGIN:VEVENT
UID:874164_8065c9cf-3270-43e2-8939-db27a59b33b0_1776957813@raceroster.com
DTSTAMP:20260423T152334Z
SUMMARY:Georgetown Turkey Trot 5k & 10k
DTSTART;TZID=America/New_York:20251127T074500
DTEND;TZID=America/New_York:20251127T104500
URL;VALUE=URI:https://raceroster.com/events/2025/118126/georgetown-turkey-t
 rot-5k-and-10k
DESCRIPTION:See all event details at https://raceroster.com/events/2025/118
 126/georgetown-turkey-trot-5k-and-10k
LOCATION:3530 Water St NW\, Washington\, DC 20007
END:VEVENT
END:VCALENDAR
