BEGIN:VCALENDAR
VERSION:2.0
PRODID:-//Fast North Corp//Race Roster
CALSCALE:GREGORIAN
BEGIN:VEVENT
UID:883905_d3ae9b31-6367-4fc4-8876-4ca53d1091f1_1776601859@raceroster.com
DTSTAMP:20260419T123059Z
SUMMARY:Right Choice Virgin Parish Relay Meet
DTSTART;TZID=America/Grenada:20260516T140000
DTEND;TZID=America/Grenada:20260516T170000
URL;VALUE=URI:https://raceroster.com/events/2026/100286/right-choice-virgin
 -parish-relay-meet
DESCRIPTION:See all event details at https://raceroster.com/events/2026/100
 286/right-choice-virgin-parish-relay-meet
LOCATION:La Sagesse Playing Field\, Corinth\, Grenada
END:VEVENT
END:VCALENDAR
