BEGIN:VCALENDAR
VERSION:2.0
PRODID:-//Fast North Corp//Race Roster
CALSCALE:GREGORIAN
BEGIN:VEVENT
UID:883530_4a757bf4-6b92-4617-98da-4f625808bb4c_1776772691@raceroster.com
DTSTAMP:20260421T115811Z
SUMMARY:Running Of The Steers
DTSTART;TZID=America/Halifax:20260712T090000
DTEND;TZID=America/Halifax:20260712T120000
URL;VALUE=URI:https://raceroster.com/events/2026/103709/running-of-the-stee
 rs
DESCRIPTION:See all event details at https://raceroster.com/events/2026/103
 709/running-of-the-steers
LOCATION:Aurora Inn\, Main Street\, Kingston\, NS\, Canada
END:VEVENT
END:VCALENDAR
