BEGIN:VCALENDAR
VERSION:2.0
PRODID:-//Fast North Corp//Race Roster
CALSCALE:GREGORIAN
BEGIN:VEVENT
UID:796831_4d56a42e-f27c-4f8f-9849-55a73c0f3da3_1776604375@raceroster.com
DTSTAMP:20260419T131255Z
SUMMARY:ETPA Membership 2025/26
DTSTART;TZID=Australia/Melbourne:20260630T120000
DTEND;TZID=Australia/Melbourne:20260630T150000
URL;VALUE=URI:https://raceroster.com/events/2026/107243/etpa-membership-202
 526
DESCRIPTION:See all event details at https://raceroster.com/events/2026/107
 243/etpa-membership-202526
LOCATION:Melbourne VIC\, Australia
END:VEVENT
END:VCALENDAR
