BEGIN:VCALENDAR
VERSION:2.0
PRODID:-//Fast North Corp//Race Roster
CALSCALE:GREGORIAN
BEGIN:VEVENT
UID:884053_bda1529f-63e1-4fa0-b03d-a3b93b61ae36_1776697115@raceroster.com
DTSTAMP:20260420T145835Z
SUMMARY:2026 Madison Marathon
DTSTART;TZID=America/Chicago:20261115T070000
DTEND;TZID=America/Chicago:20261115T100000
URL;VALUE=URI:https://raceroster.com/events/2026/110960/2026-madison-marath
 on
DESCRIPTION:See all event details at https://raceroster.com/events/2026/110
 960/2026-madison-marathon
LOCATION:2 East Main Street\, Madison\, WI
END:VEVENT
END:VCALENDAR
