BEGIN:VCALENDAR
VERSION:2.0
PRODID:-//Fast North Corp//Race Roster
CALSCALE:GREGORIAN
BEGIN:VEVENT
UID:825186_d557105a-f63d-433d-8f0c-ff4f14e3467b_1776956956@raceroster.com
DTSTAMP:20260423T150916Z
SUMMARY:Pitman Freedom Four Miler Run
DTSTART;TZID=America/New_York:20260704T084500
DTEND;TZID=America/New_York:20260704T114500
URL;VALUE=URI:https://raceroster.com/events/2026/111111/pitman-freedom-four
 -miler-run
DESCRIPTION:See all event details at https://raceroster.com/events/2026/111
 111/pitman-freedom-four-miler-run
LOCATION:110 S. Broadway\, Pitman\, NJ\, NJ 08071 US
END:VEVENT
END:VCALENDAR
