BEGIN:VCALENDAR
VERSION:2.0
PRODID:-//Fast North Corp//Race Roster
CALSCALE:GREGORIAN
BEGIN:VEVENT
UID:842385_e71e5983-84e8-4e85-9139-0284e5a9acc0_1776957814@raceroster.com
DTSTAMP:20260423T152334Z
SUMMARY:Family Planning Association VIRTUAL 5k
DTSTART;TZID=America/Port_of_Spain:20260131T235900
DTEND;TZID=America/Port_of_Spain:20260131T025900
URL;VALUE=URI:https://raceroster.com/events/2026/111505/family-planning-ass
 ociation-virtual-5k
DESCRIPTION:See all event details at https://raceroster.com/events/2026/111
 505/family-planning-association-virtual-5k
LOCATION:Bishop Anstey High School\, Chancery Lane\, Port of Spain\, Trinid
 ad and Tobago
END:VEVENT
END:VCALENDAR
