BEGIN:VCALENDAR
VERSION:2.0
PRODID:-//Fast North Corp//Race Roster
CALSCALE:GREGORIAN
BEGIN:VEVENT
UID:881657_fa61af8c-1966-480a-b3a9-001806453ebe_1776734919@raceroster.com
DTSTAMP:20260421T012839Z
SUMMARY:2026 pride & remembrance run
DTSTART;TZID=America/Toronto:20260627T090000
DTEND;TZID=America/Toronto:20260627T120000
URL;VALUE=URI:https://raceroster.com/events/2026/112490/2026-pride-and-reme
 mbrance-run
DESCRIPTION:Event schedule\n\nJune 27 8:45 AM EDT - kids run start\nJune 27
  9:00 AM EDT - 5k start\nJune 27 9:35 AM EDT - 3k start\n\nSee all event d
 etails at https://raceroster.com/events/2026/112490/2026-pride-and-remembr
 ance-run
LOCATION:Church and Wellesley\, Toronto\, ON\, Canada
END:VEVENT
END:VCALENDAR
