BEGIN:VCALENDAR
VERSION:2.0
PRODID:-//Fast North Corp//Race Roster
CALSCALE:GREGORIAN
BEGIN:VEVENT
UID:841976_0b4f247e-8760-47d2-891f-5efbb0da7aaa_1776956955@raceroster.com
DTSTAMP:20260423T150915Z
SUMMARY:Run Juneteenth Day 5K/10K/13.1 SAN DIEGO
DTSTART;TZID=America/Los_Angeles:20260620T073000
DTEND;TZID=America/Los_Angeles:20260620T103000
URL;VALUE=URI:https://raceroster.com/events/2026/113156/run-juneteenth-day-
 5k10k131-san-diego
DESCRIPTION:See all event details at https://raceroster.com/events/2026/113
 156/run-juneteenth-day-5k10k131-san-diego
LOCATION:Mission Point Park\, Bayside Lane\, San Diego\, CA
END:VEVENT
END:VCALENDAR
