BEGIN:VCALENDAR
VERSION:2.0
PRODID:-//Fast North Corp//Race Roster
CALSCALE:GREGORIAN
BEGIN:VEVENT
UID:872910_0e24e620-9c28-4419-bfa8-69b08d7a03cc_1776956410@raceroster.com
DTSTAMP:20260423T150010Z
SUMMARY:Run For Your Life 5K
DTSTART;TZID=America/Chicago:20260502T090000
DTEND;TZID=America/Chicago:20260502T120000
URL;VALUE=URI:https://raceroster.com/events/2026/113538/run-for-your-life-5
 k
DESCRIPTION:See all event details at https://raceroster.com/events/2026/113
 538/run-for-your-life-5k
LOCATION:300 Northeast 43rd Street\, Topeka\, KS
END:VEVENT
END:VCALENDAR
