BEGIN:VCALENDAR
VERSION:2.0
PRODID:-//Fast North Corp//Race Roster
CALSCALE:GREGORIAN
BEGIN:VEVENT
UID:875756_09aac9fe-b50a-4a4a-b81e-65277800cb1f_1776692887@raceroster.com
DTSTAMP:20260420T134807Z
SUMMARY:Run for the Roses 5K & Kids Fun Run
DTSTART;TZID=America/Chicago:20260627T080000
DTEND;TZID=America/Chicago:20260627T110000
URL;VALUE=URI:https://raceroster.com/events/2026/113909/run-for-the-roses-5
 k-and-kids-fun-run
DESCRIPTION:Event schedule\n\nJune 26 8:00 AM CDT - Packet Pickup\nJune 27 
 7:00 AM CDT - Race Day Packet Pickup\nJune 27 8:00 AM CDT - 5K Starts\nJun
 e 27 9:00 AM CDT - Kids Fun Run Starts\n\nSee all event details at https:/
 /raceroster.com/events/2026/113909/run-for-the-roses-5k-and-kids-fun-run
LOCATION:Roseville Skating Center\, 2661 Civic Center Drive\, Roseville\, M
 N 55113\, USA
END:VEVENT
END:VCALENDAR
