BEGIN:VCALENDAR
VERSION:2.0
PRODID:-//Fast North Corp//Race Roster
CALSCALE:GREGORIAN
BEGIN:VEVENT
UID:880943_1b10dfdb-3e5e-49c1-9419-f13ad9a2cf38_1776779442@raceroster.com
DTSTAMP:20260421T135042Z
SUMMARY:Kicking PancreAS™ 5K - Saskatchewan
DTSTART;TZID=America/Regina:20260606T193000
DTEND;TZID=America/Regina:20260606T223000
URL;VALUE=URI:https://raceroster.com/events/2026/113938/kicking-pancreas-5k
 -saskatchewan
DESCRIPTION:See all event details at https://raceroster.com/events/2026/113
 938/kicking-pancreas-5k-saskatchewan
LOCATION:Rotary Park\, Saskatchewan Crescent East\, Saskatoon\, SK\, Canada
END:VEVENT
END:VCALENDAR
