BEGIN:VCALENDAR
VERSION:2.0
PRODID:-//Fast North Corp//Race Roster
CALSCALE:GREGORIAN
BEGIN:VEVENT
UID:864738_25055ae4-7162-4a8e-b15f-0bcd29ccba74_1776779442@raceroster.com
DTSTAMP:20260421T135042Z
SUMMARY:Kicking PancreAS™ 5K - Manitoba
DTSTART;TZID=America/Winnipeg:20261003T180000
DTEND;TZID=America/Winnipeg:20261003T210000
URL;VALUE=URI:https://raceroster.com/events/2026/113947/kicking-pancreas-5k
 -manitoba
DESCRIPTION:See all event details at https://raceroster.com/events/2026/113
 947/kicking-pancreas-5k-manitoba
LOCATION:St. Vital Park\, River Road\, Winnipeg\, MB\, Canada
END:VEVENT
END:VCALENDAR
