BEGIN:VCALENDAR
VERSION:2.0
PRODID:-//Fast North Corp//Race Roster
CALSCALE:GREGORIAN
BEGIN:VEVENT
UID:855375_1f141420-34ea-4bc3-8334-9c83510af05c_1776781395@raceroster.com
DTSTAMP:20260421T142315Z
SUMMARY:Bay To Bay Running Festival 2026
DTSTART;TZID=Australia/Sydney:20260614T000000
DTEND;TZID=Australia/Sydney:20260614T030000
URL;VALUE=URI:https://raceroster.com/events/2026/114257/bay-to-bay-running-
 festival-2026
DESCRIPTION:See all event details at https://raceroster.com/events/2026/114
 257/bay-to-bay-running-festival-2026
LOCATION:Central Coast\, NSW - Woy Woy to Gosford
END:VEVENT
END:VCALENDAR
