BEGIN:VCALENDAR
VERSION:2.0
PRODID:-//Fast North Corp//Race Roster
CALSCALE:GREGORIAN
BEGIN:VEVENT
UID:864144_68c4deb0-1803-4262-9e32-c3fbe5f7cfbb_1776967015@raceroster.com
DTSTAMP:20260423T175655Z
SUMMARY:Walk Run and Roll with ReYu - 2026
DTSTART;TZID=America/Edmonton:20260530T110000
DTEND;TZID=America/Edmonton:20260530T140000
URL;VALUE=URI:https://raceroster.com/events/2026/114349/walk-run-and-roll-w
 ith-reyu-2026
DESCRIPTION:Event schedule\n\nMay 30 11:15 AM MDT - 5km Walk\, Run &amp\; R
 oll\n\nSee all event details at https://raceroster.com/events/2026/114349/
 walk-run-and-roll-with-reyu-2026
LOCATION:Site 7 - Sir Wilfrid Laurier Park\, Buena Vista Road Northwest\, E
 dmonton\, AB\, Canada
END:VEVENT
END:VCALENDAR
