BEGIN:VCALENDAR
VERSION:2.0
PRODID:-//Fast North Corp//Race Roster
CALSCALE:GREGORIAN
BEGIN:VEVENT
UID:851554_cf1b02bf-ecb4-451c-8eae-e16758970380_1776955378@raceroster.com
DTSTAMP:20260423T144258Z
SUMMARY:Kenwood Footrace Sponsor/Vendor Signup
DTSTART;TZID=America/Los_Angeles:20260704T073000
DTEND;TZID=America/Los_Angeles:20260704T103000
URL;VALUE=URI:https://raceroster.com/events/2026/114434/kenwood-footrace-sp
 onsorvendor-signup
DESCRIPTION:Event schedule\n\nJuly 4 6:00 AM PDT - Vendor Load In: 6:00-6:3
 0am\nJuly 4 7:30 AM PDT - Race Start\nJuly 4 10:00 AM PDT - Vendor Tear Do
 wn\n\nSee all event details at https://raceroster.com/events/2026/114434/k
 enwood-footrace-sponsorvendor-signup
LOCATION:Kenwood Plaza Park\, Kenwood\, CA
END:VEVENT
END:VCALENDAR
