BEGIN:VCALENDAR
VERSION:2.0
PRODID:-//Fast North Corp//Race Roster
CALSCALE:GREGORIAN
BEGIN:VEVENT
UID:881793_f59a6501-23aa-4ddf-a03f-70c78b01b8e6_1776772722@raceroster.com
DTSTAMP:20260421T115842Z
SUMMARY:INDEPENDENCE DAY RUN 2026 - BAGUIO CITY
DTSTART;TZID=Asia/Manila:20260614T030000
DTEND;TZID=Asia/Manila:20260614T060000
URL;VALUE=URI:https://raceroster.com/events/2026/114601/independence-day-ru
 n-2026-baguio-city
DESCRIPTION:See all event details at https://raceroster.com/events/2026/114
 601/independence-day-run-2026-baguio-city
LOCATION:Lake Drive Burnham Park\, Lake Drive\, Baguio\, Benguet\, Philippi
 nes
END:VEVENT
END:VCALENDAR
