BEGIN:VCALENDAR
VERSION:2.0
PRODID:-//Fast North Corp//Race Roster
CALSCALE:GREGORIAN
BEGIN:VEVENT
UID:883167_bb6580bb-ff5b-4e8b-b813-7f962d098b39_1776601782@raceroster.com
DTSTAMP:20260419T122942Z
SUMMARY:Rally for DHK 2026
DTSTART;TZID=America/Toronto:20261003T080000
DTEND;TZID=America/Toronto:20261003T110000
URL;VALUE=URI:https://raceroster.com/events/2026/114773/rally-for-dhk-2026
DESCRIPTION:See all event details at https://raceroster.com/events/2026/114
 773/rally-for-dhk-2026
LOCATION:TBD
END:VEVENT
END:VCALENDAR
