BEGIN:VCALENDAR
VERSION:2.0
PRODID:-//Fast North Corp//Race Roster
CALSCALE:GREGORIAN
BEGIN:VEVENT
UID:854287_6ebee7f2-cf54-4a6c-b2b4-fb8dbdd2be79_1776883062@raceroster.com
DTSTAMP:20260422T183742Z
SUMMARY:Sunrise Marathon 5K/10K/13.1 MEMPHIS
DTSTART;TZID=America/Chicago:20260502T073000
DTEND;TZID=America/Chicago:20260502T103000
URL;VALUE=URI:https://raceroster.com/events/2026/114805/sunrise-marathon-5k
 10k131-memphis
DESCRIPTION:See all event details at https://raceroster.com/events/2026/114
 805/sunrise-marathon-5k10k131-memphis
LOCATION:Riverwalk\, Memphis\, TN 38103
END:VEVENT
END:VCALENDAR
