BEGIN:VCALENDAR
VERSION:2.0
PRODID:-//Fast North Corp//Race Roster
CALSCALE:GREGORIAN
BEGIN:VEVENT
UID:863961_f738c084-126a-456b-ae19-e676c1cc2d3f_1776772693@raceroster.com
DTSTAMP:20260421T115813Z
SUMMARY:Caraquet Adrenaline Caraquet
DTSTART;TZID=America/Halifax:20260606T090000
DTEND;TZID=America/Halifax:20260606T120000
URL;VALUE=URI:https://raceroster.com/events/2026/114857/caraquet-adrenaline
 -caraquet
DESCRIPTION:See all event details at https://raceroster.com/events/2026/114
 857/caraquet-adrenaline-caraquet
LOCATION:50 Rue du Colisée\, Caraquet\, NB\, Canada
END:VEVENT
END:VCALENDAR
