BEGIN:VCALENDAR
VERSION:2.0
PRODID:-//Fast North Corp//Race Roster
CALSCALE:GREGORIAN
BEGIN:VEVENT
UID:856672_aaf56ced-656f-42ed-a646-081c7b36cb39_1777135209@raceroster.com
DTSTAMP:20260425T164009Z
SUMMARY:Buper Sowl 5k & 10k
DTSTART;TZID=America/New_York:20260208T070000
DTEND;TZID=America/New_York:20260208T100000
URL;VALUE=URI:https://raceroster.com/events/2026/114863/buper-sowl-5k-and-1
 0k
DESCRIPTION:See all event details at https://raceroster.com/events/2026/114
 863/buper-sowl-5k-and-10k
LOCATION:7315 Ox Rd\, Fairfax Station\, VA
END:VEVENT
END:VCALENDAR
